BEGIN:VCALENDAR
VERSION:2.0
PRODID:spatie/icalendar-generator
DESCRIPTION:Évènements de Ecovillage de Sainte Camelle
X-WR-CALDESC:Évènements de Ecovillage de Sainte Camelle
REFRESH-INTERVAL;VALUE=DURATION:PT1440M
X-PUBLISHED-TTL:PT1440M
BEGIN:VTIMEZONE
TZID:Europe/Paris
BEGIN:DAYLIGHT
DTSTART:20220327T020000Z
TZOFFSETFROM:+0100
TZOFFSETTO:+0200
END:DAYLIGHT
BEGIN:STANDARD
DTSTART:20221030T030000Z
TZOFFSETFROM:+0200
TZOFFSETTO:+0100
END:STANDARD
END:VTIMEZONE
BEGIN:VTIMEZONE
TZID:UTC
BEGIN:STANDARD
DTSTART:20250725T080442Z
TZOFFSETFROM:+0000
TZOFFSETTO:+0000
END:STANDARD
END:VTIMEZONE
BEGIN:VEVENT
UID:666-484
DTSTAMP:20260421T080442Z
SUMMARY:Spectacle cirque d'acrobatie Cie Sans Blague
LOCATION:
ORGANIZER;CN=Bénédicte FAURE:MAILTO:nikita2157@hotmail.fr
DTSTART;TZID=Europe/Paris:20220915T180000
DTEND;TZID=Europe/Paris:20220915T195900
X-ALT-DESC;FMTTYPE=TEXT/HTML:
CATEGORIES:la luciole,  Chants,  danses,   ...
URL;VALUE=URI:https://ecovillagestecamelle.fr/mc-events/spectacle-cirque-da
 crobatie-cie-sans-blague/
METHOD:PUBLISH
END:VEVENT
END:VCALENDAR