BEGIN:VCALENDAR
VERSION:2.0
PRODID:spatie/icalendar-generator
DESCRIPTION:Évènements de Ecovillage de Sainte Camelle
X-WR-CALDESC:Évènements de Ecovillage de Sainte Camelle
REFRESH-INTERVAL;VALUE=DURATION:PT1440M
X-PUBLISHED-TTL:PT1440M
BEGIN:VTIMEZONE
TZID:Europe/Paris
BEGIN:DAYLIGHT
DTSTART:20200329T020000Z
TZOFFSETFROM:+0100
TZOFFSETTO:+0200
END:DAYLIGHT
BEGIN:STANDARD
DTSTART:20201025T030000Z
TZOFFSETFROM:+0200
TZOFFSETTO:+0100
END:STANDARD
END:VTIMEZONE
BEGIN:VTIMEZONE
TZID:UTC
BEGIN:STANDARD
DTSTART:20250725T082759Z
TZOFFSETFROM:+0000
TZOFFSETTO:+0000
END:STANDARD
END:VTIMEZONE
BEGIN:VEVENT
UID:543-372
DTSTAMP:20260421T082759Z
SUMMARY:Les Créateurs de Réalité
LOCATION:
ORGANIZER;CN=Bruno GANTOIS:MAILTO:bruno.gantois@orange.fr
DTSTART;TZID=Europe/Paris:20200807T100000
DTEND;TZID=Europe/Paris:20200807T170000
X-ALT-DESC;FMTTYPE=TEXT/HTML:
CATEGORIES:Stages écologie intérieure
URL;VALUE=URI:https://ecovillagestecamelle.fr/mc-events/les-createurs-de-re
 alite/
METHOD:PUBLISH
END:VEVENT
END:VCALENDAR