BEGIN:VCALENDAR
VERSION:2.0
PRODID:spatie/icalendar-generator
DESCRIPTION:Évènements de Ecovillage de Sainte Camelle
X-WR-CALDESC:Évènements de Ecovillage de Sainte Camelle
REFRESH-INTERVAL;VALUE=DURATION:PT1440M
X-PUBLISHED-TTL:PT1440M
BEGIN:VTIMEZONE
TZID:Europe/Paris
BEGIN:STANDARD
DTSTART:20181028T030000Z
TZOFFSETFROM:+0200
TZOFFSETTO:+0100
END:STANDARD
BEGIN:DAYLIGHT
DTSTART:20190331T020000Z
TZOFFSETFROM:+0100
TZOFFSETTO:+0200
END:DAYLIGHT
END:VTIMEZONE
BEGIN:VTIMEZONE
TZID:UTC
BEGIN:STANDARD
DTSTART:20250725T075723Z
TZOFFSETFROM:+0000
TZOFFSETTO:+0000
END:STANDARD
END:VTIMEZONE
BEGIN:VEVENT
UID:413-258
DTSTAMP:20260421T075723Z
SUMMARY:Rendez-vous à Amadeus à partir de 16 h et concert Jazz New-Orlean
 s avec \"Olive and Swing\" à 20h30
LOCATION:
ORGANIZER;CN=Bruno GANTOIS:MAILTO:bruno.gantois@orange.fr
DTSTART;TZID=Europe/Paris:20190406T160000
DTEND;TZID=Europe/Paris:20190406T230000
X-ALT-DESC;FMTTYPE=TEXT/HTML:
CATEGORIES:General
URL;VALUE=URI:https://ecovillagestecamelle.fr/mc-events/rendez-vous-a-amade
 us-a-partir-de-16-h-et-concert-jazz-new-orleans-avec-olive-and-swing-a-20h
 30/
METHOD:PUBLISH
END:VEVENT
END:VCALENDAR