BEGIN:VCALENDAR
VERSION:2.0
PRODID:spatie/icalendar-generator
DESCRIPTION:Évènements de Ecovillage de Sainte Camelle
X-WR-CALDESC:Évènements de Ecovillage de Sainte Camelle
REFRESH-INTERVAL;VALUE=DURATION:PT1440M
X-PUBLISHED-TTL:PT1440M
BEGIN:VTIMEZONE
TZID:Europe/Paris
BEGIN:STANDARD
DTSTART:20231029T030000Z
TZOFFSETFROM:+0200
TZOFFSETTO:+0100
END:STANDARD
BEGIN:DAYLIGHT
DTSTART:20240331T020000Z
TZOFFSETFROM:+0100
TZOFFSETTO:+0200
END:DAYLIGHT
BEGIN:STANDARD
DTSTART:20241027T030000Z
TZOFFSETFROM:+0200
TZOFFSETTO:+0100
END:STANDARD
END:VTIMEZONE
BEGIN:VTIMEZONE
TZID:UTC
BEGIN:STANDARD
DTSTART:20250725T083630Z
TZOFFSETFROM:+0000
TZOFFSETTO:+0000
END:STANDARD
END:VTIMEZONE
BEGIN:VEVENT
UID:740-545
DTSTAMP:20260421T083630Z
SUMMARY:Stage immersion à Sainte Camelle
LOCATION:Ecovillage Sainte Camelle Lieu-dit Sainte Camelle  Saint Victor Ro
 uzaud  09100
ORGANIZER;CN=Bruno GANTOIS:MAILTO:bruno.gantois@orange.fr
DTSTART;TZID=Europe/Paris;VALUE=DATE:20240706
DTEND;TZID=Europe/Paris;VALUE=DATE:20240714
X-ALT-DESC;FMTTYPE=TEXT/HTML:Immersion à l’écovillage Sainte Camelle 
 – Les 7 incontournables pour réussir une vie collective Une semaine pou
 r partager la vie de l’écovillage et vivre une expérience inoubliable 
 et transformatrice en découvrant les clefs d’une vie collective réussi
 e. Du 6 au 13 juillet 2024 Adultes et enfants
CATEGORIES:Stages/Rencontres,  Vivre en écovillage
URL;VALUE=URI:https://ecovillagestecamelle.fr/mc-events/stage-immersion-a-s
 ainte-camelle/
METHOD:PUBLISH
END:VEVENT
END:VCALENDAR