BEGIN:VCALENDAR
VERSION:2.0
PRODID:spatie/icalendar-generator
DESCRIPTION:Évènements de Ecovillage de Sainte Camelle
X-WR-CALDESC:Évènements de Ecovillage de Sainte Camelle
REFRESH-INTERVAL;VALUE=DURATION:PT1440M
X-PUBLISHED-TTL:PT1440M
BEGIN:VTIMEZONE
TZID:Europe/Paris
BEGIN:STANDARD
DTSTART:20181028T030000Z
TZOFFSETFROM:+0200
TZOFFSETTO:+0100
END:STANDARD
BEGIN:DAYLIGHT
DTSTART:20190331T020000Z
TZOFFSETFROM:+0100
TZOFFSETTO:+0200
END:DAYLIGHT
END:VTIMEZONE
BEGIN:VTIMEZONE
TZID:UTC
BEGIN:STANDARD
DTSTART:20250725T100149Z
TZOFFSETFROM:+0000
TZOFFSETTO:+0000
END:STANDARD
END:VTIMEZONE
BEGIN:VEVENT
UID:390-240
DTSTAMP:20260421T100149Z
SUMMARY:Formation Médecine Traditonnelle Tibétaine (MTT 1.1)
LOCATION:
ORGANIZER;CN=Bruno GANTOIS:MAILTO:bruno.gantois@orange.fr
DTSTART;TZID=Europe/Paris;VALUE=DATE:20190401
DTEND;TZID=Europe/Paris;VALUE=DATE:20190407
X-ALT-DESC;FMTTYPE=TEXT/HTML:
CATEGORIES:Formations
URL;VALUE=URI:https://ecovillagestecamelle.fr/mc-events/formation-medecine-
 traditonnelle-tibetaine-mtt-1-1/
METHOD:PUBLISH
END:VEVENT
END:VCALENDAR