BEGIN:VCALENDAR
VERSION:2.0
PRODID:spatie/icalendar-generator
DESCRIPTION:Évènements de Ecovillage de Sainte Camelle
X-WR-CALDESC:Évènements de Ecovillage de Sainte Camelle
REFRESH-INTERVAL;VALUE=DURATION:PT1440M
X-PUBLISHED-TTL:PT1440M
BEGIN:VTIMEZONE
TZID:Europe/Paris
BEGIN:STANDARD
DTSTART:20181028T030000Z
TZOFFSETFROM:+0200
TZOFFSETTO:+0100
END:STANDARD
BEGIN:DAYLIGHT
DTSTART:20190331T020000Z
TZOFFSETFROM:+0100
TZOFFSETTO:+0200
END:DAYLIGHT
END:VTIMEZONE
BEGIN:VTIMEZONE
TZID:UTC
BEGIN:STANDARD
DTSTART:20250726T110323Z
TZOFFSETFROM:+0000
TZOFFSETTO:+0000
END:STANDARD
END:VTIMEZONE
BEGIN:VEVENT
UID:360-213
DTSTAMP:20260422T110323Z
SUMMARY:Danses de la Paix Universelle
LOCATION:
ORGANIZER;CN=Bruno GANTOIS:MAILTO:bruno.gantois@orange.fr
DTSTART;TZID=Europe/Paris:20190120T143000
DTEND;TZID=Europe/Paris:20190120T173000
X-ALT-DESC;FMTTYPE=TEXT/HTML:<p>http://ecovillagestecamelle.fr/danses-de-la
 -paix-universelle/</p>\n
CATEGORIES:Chants,  danses,   ...
URL;VALUE=URI:https://ecovillagestecamelle.fr/mc-events/danses-de-la-paix-u
 niverselle-3/
METHOD:PUBLISH
END:VEVENT
END:VCALENDAR