BEGIN:VCALENDAR
VERSION:2.0
PRODID:spatie/icalendar-generator
DESCRIPTION:Évènements de Ecovillage de Sainte Camelle
X-WR-CALDESC:Évènements de Ecovillage de Sainte Camelle
REFRESH-INTERVAL;VALUE=DURATION:PT1440M
X-PUBLISHED-TTL:PT1440M
BEGIN:VTIMEZONE
TZID:Europe/Paris
BEGIN:DAYLIGHT
DTSTART:20170326T020000Z
TZOFFSETFROM:+0100
TZOFFSETTO:+0200
END:DAYLIGHT
BEGIN:STANDARD
DTSTART:20171029T030000Z
TZOFFSETFROM:+0200
TZOFFSETTO:+0100
END:STANDARD
BEGIN:DAYLIGHT
DTSTART:20180325T020000Z
TZOFFSETFROM:+0100
TZOFFSETTO:+0200
END:DAYLIGHT
END:VTIMEZONE
BEGIN:VTIMEZONE
TZID:UTC
BEGIN:STANDARD
DTSTART:20250724T181715Z
TZOFFSETFROM:+0000
TZOFFSETTO:+0000
END:STANDARD
END:VTIMEZONE
BEGIN:VEVENT
UID:226-149
DTSTAMP:20260420T181715Z
SUMMARY:Stage d’Art-Thérapie
LOCATION:
ORGANIZER;CN=Bruno GANTOIS:MAILTO:bruno.gantois@orange.fr
DTSTART;TZID=Europe/Paris:20171028T235900
DTEND;TZID=Europe/Paris:20171029T235900
X-ALT-DESC;FMTTYPE=TEXT/HTML:
CATEGORIES:Stages écologie intérieure
URL;VALUE=URI:https://ecovillagestecamelle.fr/mc-events/stage-dart-therapie
 /
METHOD:PUBLISH
END:VEVENT
END:VCALENDAR